BEGIN:VCALENDAR
VERSION:2.0
PRODID:gruene-toelz-wor.de
METHOD:PUBLISH
BEGIN:VTIMEZONE
TZID:Europe/Berlin
X-LIC-LOCATION:Europe/Berlin
BEGIN:DAYLIGHT
TZOFFSETFROM:+0100
TZOFFSETTO:+0200
TZNAME:CEST
DTSTART:19700329T020000
RRULE:FREQ=YEARLY;INTERVAL=1;BYDAY=-1SU;BYMONTH=3
END:DAYLIGHT
BEGIN:STANDARD
TZOFFSETFROM:+0200
TZOFFSETTO:+0100
TZNAME:CET
DTSTART:19701025T030000
RRULE:FREQ=YEARLY;INTERVAL=1;BYDAY=-1SU;BYMONTH=10
END:STANDARD
END:VTIMEZONE
BEGIN:VEVENT
UID:e6de5a94ead32060b62d944aaa4ff85d@gruene-toelz-wor.de
URL;VALUE=URI:https://gruene-toelz-wor.de/termine/ammerland-muensing-wo-d
 rueckt-der-schuh/
LOCATION:Riedweg, Ammerland, Münsing
SUMMARY:Ammerland, Münsing – Wo drückt der Schuh?
DESCRIPTION;ALTREP="data:text/html,%0A%3Cp%3EAmmerland%20im%20Fokus%3A%20
 Am%2011.%20Januar%20um%2014%20Uhr%20l%C3%A4dt%20Bernadette%20Felsch%20zum
 %20Spaziergang%20im%20Ortsteil%20Ammerland%20ein.%20Treffpunkt%20ist%20am
 %20Riedweg%20beim%20neuen%20Parkplatz%20am%20Hoffischer.%20%3C%2Fp%3E%0A%
 0A%0A%0A%3Cp%3EWas%20besch%C3%A4ftigt%20die%20Menschen%20hier%3F%20%3C%2F
 p%3E%0A%0A%0A%0A%3Cp%3EWelche%20lokalen%20Themen%20brennen%20unter%20den%
 20N%C3%A4geln%3F%20%3C%2Fp%3E%0A%0A%0A%0A%3Cp%3EBei%20einem%20gemeinsamen
 %20Rundgang%20ist%20Raum%20f%C3%BCr%20eure%20Fragen%2C%20Sorgen%20und%20V
 orschl%C3%A4ge.%20Packt%20eure%20Liebsten%20ein%20und%20schaut%20vorbei%2
 1%3C%2Fp%3E%0A%0A%0A%0A%3Cfigure%20class%3D%22wp-block-image%20size-full%
 20is-resized%22%3E%3Cimg%20src%3D%22https%3A%2F%2Fgruene-toelz-wor.de%2Fw
 p-content%2Fuploads%2Fsites%2F38%2F2025%2F12%2F11janMuensing.png%22%20alt
 %3D%22%22%20class%3D%22wp-image-6780%22%20style%3D%22width%3A605px%3Bheig
 ht%3Aauto%22%20%2F%3E%3C%2Ffigure%3E%0A":Ammerland im Fokus: Am 11. Janua
 r um 14 Uhr lädt Bernadette Felsch zum Spaziergang im Ortsteil Ammerland
  ein. Treffpunkt ist am Riedweg beim neuen Parkplatz am Hoffischer.\n\nWa
 s beschäftigt die Menschen hier?\n\nWelche lokalen Themen brennen unter 
 den Nägeln?\n\nBei einem gemeinsamen Rundgang ist Raum für eure Fragen\
 , Sorgen und Vorschläge. Packt eure Liebsten ein und schaut vorbei!
CLASS:PUBLIC
DTSTART;TZID=Europe/Berlin:20260111T140000
DTEND;TZID=Europe/Berlin:20260111T150000
DTSTAMP:20260424T101010
END:VEVENT
END:VCALENDAR