BEGIN:VCALENDAR
VERSION:2.0
PRODID:gruene-toelz-wor.de
METHOD:PUBLISH
BEGIN:VTIMEZONE
TZID:Europe/Berlin
X-LIC-LOCATION:Europe/Berlin
BEGIN:DAYLIGHT
TZOFFSETFROM:+0100
TZOFFSETTO:+0200
TZNAME:CEST
DTSTART:19700329T020000
RRULE:FREQ=YEARLY;INTERVAL=1;BYDAY=-1SU;BYMONTH=3
END:DAYLIGHT
BEGIN:STANDARD
TZOFFSETFROM:+0200
TZOFFSETTO:+0100
TZNAME:CET
DTSTART:19701025T030000
RRULE:FREQ=YEARLY;INTERVAL=1;BYDAY=-1SU;BYMONTH=10
END:STANDARD
END:VTIMEZONE
BEGIN:VEVENT
UID:76e67a22b155f368fcfa3e237ec21449@gruene-toelz-wor.de
URL;VALUE=URI:https://gruene-toelz-wor.de/termine/einladung-zur-exkursion
 -pro-contra-wasserkraft/
LOCATION:Krün
SUMMARY:Einladung zur Exkursion: Pro & Contra Wasserkraft
DESCRIPTION;ALTREP="data:text/html,%0A%3Cp%3EAm%20Samstag%2C%20den%2021.0
 9.2024%2C%20laden%20wir%20euch%20herzlich%20zu%20einer%20spannenden%20Ver
 anstaltung%20zum%20Thema%20Wasserkraft%20ein%21%20Gemeinsam%20mit%20Ludwi
 g%20Hartmann%20%28Vizepr%C3%A4sident%20des%20Bayerischen%20Landtags%29%20
 und%20Dr.%20Herrmann%20vom%20Bund%20Naturschutz%20werden%20wir%20uns%20kr
 itisch%20mit%20den%20Auswirkungen%20der%20Wasserkraft%20auf%20die%20Biodi
 versit%C3%A4t%20und%20die%20Zerst%C3%B6rung%20der%20letzten%20Wildflussla
 ndschaft%20in%20Bayern%20auseinandersetzen.%26nbsp%3B%3C%2Fp%3E%0A%0A%0A%
 0A%3Cp%3E%3Cstrong%3EWas%20erwartet%20euch%3F%3C%2Fstrong%3E%3C%2Fp%3E%0A
 %0A%0A%0A%3Cul%20class%3D%22wp-block-list%22%3E%0A%3Cli%3EEine%20gef%C3%B
 Chrte%20Exkursion%20in%20Etappen%20entlang%20der%20Mautstra%C3%9Fe%20zum%
 20Sylvensteinspeicher.%3C%2Fli%3E%0A%0A%0A%0A%3Cli%3EBeginn%3A%2014%3A00%
 20Uhr%20in%20Kr%C3%BCn.%3C%2Fli%3E%0A%0A%0A%0A%3Cli%3EDauer%3A%20ca.%203-
 4%20Stunden.%3C%2Fli%3E%0A%3C%2Ful%3E%0A%0A%0A%0A%3Cp%3E%26nbsp%3B%3Cstro
 ng%3ETeilnehmerzahl%3A%3C%2Fstrong%3E%26nbsp%3B20%20Personen%20%28vorrang
 ig%20f%C3%BCr%20Gr%C3%BCne%20Mitglieder%29.%3C%2Fp%3E%0A%0A%0A%0A%3Cp%3EM
 eldet%20euch%20schnell%20an%20und%20seid%20dabei%2C%20um%20mehr%20%C3%BCb
 er%20die%20spannenden%2C%20aber%20auch%20kontroversen%20Seiten%20der%20Wa
 sserkraft%20zu%20erfahren%21%26nbsp%3B%3C%2Fp%3E%0A%0A%0A%0A%3Cp%3E%23Was
 serkraft%20%23Biodiversit%C3%A4t%20%23Naturschutz%20%23Exkursion%3C%2Fp%3
 E%0A":Am Samstag\, den 21.09.2024\, laden wir euch herzlich zu einer span
 nenden Veranstaltung zum Thema Wasserkraft ein! Gemeinsam mit Ludwig Hart
 mann (Vizepräsident des Bayerischen Landtags) und Dr. Herrmann vom Bund 
 Naturschutz werden wir uns kritisch mit den Auswirkungen der Wasserkraft 
 auf die Biodiversität und die Zerstörung der letzten Wildflusslandschaf
 t in Bayern auseinandersetzen. \n\nWas erwartet euch?\n\nEine geführte 
 Exkursion in Etappen entlang der Mautstraße zum Sylvensteinspeicher.\n\n
 Beginn: 14:00 Uhr in Krün.\n\nDauer: ca. 3-4 Stunden.\n\n Teilnehmerzah
 l: 20 Personen (vorrangig für Grüne Mitglieder).\n\nMeldet euch schnel
 l an und seid dabei\, um mehr über die spannenden\, aber auch kontrovers
 en Seiten der Wasserkraft zu erfahren! \n\n#Wasserkraft #Biodiversität 
 #Naturschutz #Exkursion
CLASS:PUBLIC
DTSTART;TZID=Europe/Berlin:20240921T140000
DTEND;TZID=Europe/Berlin:20240921T150000
DTSTAMP:20260424T033458
END:VEVENT
END:VCALENDAR