BEGIN:VCALENDAR
VERSION:2.0
PRODID:gruene-toelz-wor.de
METHOD:PUBLISH
BEGIN:VTIMEZONE
TZID:Europe/Berlin
X-LIC-LOCATION:Europe/Berlin
BEGIN:DAYLIGHT
TZOFFSETFROM:+0100
TZOFFSETTO:+0200
TZNAME:CEST
DTSTART:19700329T020000
RRULE:FREQ=YEARLY;INTERVAL=1;BYDAY=-1SU;BYMONTH=3
END:DAYLIGHT
BEGIN:STANDARD
TZOFFSETFROM:+0200
TZOFFSETTO:+0100
TZNAME:CET
DTSTART:19701025T030000
RRULE:FREQ=YEARLY;INTERVAL=1;BYDAY=-1SU;BYMONTH=10
END:STANDARD
END:VTIMEZONE
BEGIN:VEVENT
UID:8b6cdf481eb2027ba040de45f5c5b574@gruene-toelz-wor.de
URL;VALUE=URI:https://gruene-toelz-wor.de/termine/infostand-der-gruenen-a
 m-12-10-in-lenggries/
LOCATION:Bahnhofsplatz Lenggries, Lenggries
SUMMARY:Infostand der Grünen am 12.10. in Lenggries
DESCRIPTION;ALTREP="data:text/html,%0A%3Cp%3EAm%C2%A0%3Cstrong%3ESamstag%
 2C%20den%2012.%20Oktober%3C%2Fstrong%3E%C2%A0stehen%20wir%20von%C2%A0%3Cs
 trong%3E10%20bis%2013%20Uhr%3C%2Fstrong%3E%C2%A0mit%20einem%20Infostand%2
 0am%C2%A0%3Cstrong%3EBahnhofsplatz%20in%20Lenggries%3C%2Fstrong%3Ebereit%
 2C%20um%20mit%20euch%20ins%20Gespr%C3%A4ch%20zu%20kommen%21%20%3C%2Fp%3E%
 0A%0A%0A%0A%3Cp%3EWir%2C%20die%C2%A0%3Cstrong%3EGr%C3%BCnen%20im%20Isarwi
 nkel%3C%2Fstrong%3E%2C%20informieren%20euch%20%C3%BCber%20aktuelle%20poli
 tische%20Themen%2C%20unsere%20Ideen%20f%C3%BCr%20die%20Zukunft%20und%20da
 s%20Engagement%20vor%20Ort.%20Habt%20ihr%20Fragen%2C%20Anregungen%20oder%
 20m%C3%B6chtet%20einfach%20mal%20mit%20uns%20diskutieren%3F%20Kommt%20vor
 bei%20%E2%80%93%20wir%20freuen%20uns%20auf%20den%20Austausch%20mit%20euch
 %21%20%3C%2Fp%3E%0A%0A%0A%0A%3Cp%3ELasst%20uns%20gemeinsam%20die%20Zukunf
 t%20gestalten%21%3C%2Fp%3E%0A%0A%0A%0A%3Cp%3E%3C%2Fp%3E%0A":Am Samstag\,
  den 12. Oktober stehen wir von 10 bis 13 Uhr mit einem Infostand am 
 Bahnhofsplatz in Lenggriesbereit\, um mit euch ins Gespräch zu kommen!\n
 \nWir\, die Grünen im Isarwinkel\, informieren euch über aktuelle poli
 tische Themen\, unsere Ideen für die Zukunft und das Engagement vor Ort.
  Habt ihr Fragen\, Anregungen oder möchtet einfach mal mit uns diskutier
 en? Kommt vorbei – wir freuen uns auf den Austausch mit euch!\n\nLasst 
 uns gemeinsam die Zukunft gestalten!
CLASS:PUBLIC
DTSTART;TZID=Europe/Berlin:20241012T100000
DTEND;TZID=Europe/Berlin:20241012T130000
DTSTAMP:20260425T102301
END:VEVENT
END:VCALENDAR