BEGIN:VCALENDAR
VERSION:2.0
PRODID:gruene-toelz-wor.de
METHOD:PUBLISH
BEGIN:VTIMEZONE
TZID:Europe/Berlin
X-LIC-LOCATION:Europe/Berlin
BEGIN:DAYLIGHT
TZOFFSETFROM:+0100
TZOFFSETTO:+0200
TZNAME:CEST
DTSTART:19700329T020000
RRULE:FREQ=YEARLY;INTERVAL=1;BYDAY=-1SU;BYMONTH=3
END:DAYLIGHT
BEGIN:STANDARD
TZOFFSETFROM:+0200
TZOFFSETTO:+0100
TZNAME:CET
DTSTART:19701025T030000
RRULE:FREQ=YEARLY;INTERVAL=1;BYDAY=-1SU;BYMONTH=10
END:STANDARD
END:VTIMEZONE
BEGIN:VEVENT
UID:678eeeac01873a1b90b4c43f7e3833a2@gruene-toelz-wor.de
URL;VALUE=URI:https://gruene-toelz-wor.de/termine/jugend-trifft-europa/
LOCATION:Pfarrheim Waldram, Steinstraße 24, Wolfratshausen
SUMMARY:Jugend trifft Europa
DESCRIPTION;ALTREP="data:text/html,%0A%3Cp%3EDie%20Europawahl%20steht%20v
 or%20der%20T%C3%BCr%20-%20und%20du%20darfst%20schon%20ab%2016%20w%C3%A4hl
 en%21%21%21%3C%2Fp%3E%0A%0A%0A%0A%3Cp%3EKeine%20Ahnung%2C%20wen%20oder%20
 wie%3F%3F%3F%20Du%20Brauchst%20noch%20Infos%3F%3F%3F%20Was%20wollen%20die
 %20Kandidaten%20ver%C3%A4ndern%3F%3F%3F%20F%C3%BCr%20was%20stehen%20sie%3
 F%3F%3F%3C%2Fp%3E%0A%0A%0A%0A%3Cp%3EK%20o%20m%20m%20z%20u%20m%20S%20p%20e
 %20e%20d%20-%20D%20e%20b%20a%20t%20i%20n%20g%20%2C%20t%20r%20iff%20d%20e%
 20i%20n%20e%20Kandidatinnen%20und%20Kandidaten%20und%20stell%20all%20dein
 e%20Fragen%20%E2%80%A6%20F%C3%BCr%20Essen%20und%20Trinken%20im%20Anschlus
 s%20ist%20gesorgt.%3C%2Fp%3E%0A%0A%0A%0A%3Cp%3EF%C3%BCr%20die%20Gr%C3%BCn
 en%20Bayern%20tritt%20Andie%20W%C3%B6rle%20aus%20dem%20Allg%C3%A4u%20an%2
 0ins%20Europ%C3%A4ische%20Parlament%20zu%20ziehen.%20Wir%20unterst%C3%BCt
 zen%20ihren%20Wahlkampf%20aus%20vollem%20Herzen%20und%20laden%20euch%20ei
 n%20sie%20pers%C3%B6nlich%20an%20diesem%20Abend%20in%20Waldram%20kennenzu
 lernen%20und%20ihr%20eure%20Fragen%20zu%20stellen%21%3C%2Fp%3E%0A%0A%0A%0
 A%3Cp%3ESonntag%2C%2028.04.2024%20Beginn%3A%2019%3A30%20Uhr%20Pfarrheim%2
 0Waldram%2C%20Steinstra%C3%9Fe%2024%2C%2082515%20Wolfratshausen%3C%2Fp%3E
 %0A%0A%0A%0A%3Cfigure%20class%3D%22wp-block-image%20size-large%22%3E%3Cim
 g%20src%3D%22https%3A%2F%2Fgruene-toelz-wor.de%2Fwp-content%2Fuploads%2Fs
 ites%2F38%2F2024%2F04%2FPlakat-Speeddebating-1-800x1120.png%22%20alt%3D%2
 2%22%20class%3D%22wp-image-3774%22%20%2F%3E%3C%2Ffigure%3E%0A":Die Europa
 wahl steht vor der Tür - und du darfst schon ab 16 wählen!!!\n\nKeine A
 hnung\, wen oder wie??? Du Brauchst noch Infos??? Was wollen die Kandidat
 en verändern??? Für was stehen sie???\n\nK o m m z u m S p e e d - D e 
 b a t i n g \, t r iff d e i n e Kandidatinnen und Kandidaten und stell a
 ll deine Fragen … Für Essen und Trinken im Anschluss ist gesorgt.\n\nF
 ür die Grünen Bayern tritt Andie Wörle aus dem Allgäu an ins Europäi
 sche Parlament zu ziehen. Wir unterstützen ihren Wahlkampf aus vollem He
 rzen und laden euch ein sie persönlich an diesem Abend in Waldram kennen
 zulernen und ihr eure Fragen zu stellen!\n\nSonntag\, 28.04.2024 Beginn: 
 19:30 Uhr Pfarrheim Waldram\, Steinstraße 24\, 82515 Wolfratshausen
CLASS:PUBLIC
DTSTART;TZID=Europe/Berlin:20240428T193000
DTEND;TZID=Europe/Berlin:20240428T203000
DTSTAMP:20260423T172616
END:VEVENT
END:VCALENDAR