BEGIN:VCALENDAR
VERSION:2.0
PRODID:gruene-toelz-wor.de
METHOD:PUBLISH
BEGIN:VTIMEZONE
TZID:Europe/Berlin
X-LIC-LOCATION:Europe/Berlin
BEGIN:DAYLIGHT
TZOFFSETFROM:+0100
TZOFFSETTO:+0200
TZNAME:CEST
DTSTART:19700329T020000
RRULE:FREQ=YEARLY;INTERVAL=1;BYDAY=-1SU;BYMONTH=3
END:DAYLIGHT
BEGIN:STANDARD
TZOFFSETFROM:+0200
TZOFFSETTO:+0100
TZNAME:CET
DTSTART:19701025T030000
RRULE:FREQ=YEARLY;INTERVAL=1;BYDAY=-1SU;BYMONTH=10
END:STANDARD
END:VTIMEZONE
BEGIN:VEVENT
UID:dde15e74ae2e8a1039d63b74d1da3043@gruene-toelz-wor.de
URL;VALUE=URI:https://gruene-toelz-wor.de/termine/oeffentliche-fraktionss
 itzung-gruene-bad-toelz/
LOCATION:Kolberbräu, Markstraße, Bad Tölz
SUMMARY:Öffentliche Fraktionssitzung Grüne Bad Tölz
DESCRIPTION;ALTREP="data:text/html,%0A%3Cblockquote%20class%3D%22wp-block
 -quote%20is-layout-flow%20wp-block-quote-is-layout-flow%22%3E%0A%3Cp%3ELi
 ebe%20Freundinnen%20und%20Freunde%20der%20Gr%C3%BCnen%2C%3C%2Fp%3E%0A%0A%
 0A%0A%3Cp%3Ewir%20treffen%20uns%20zu%20unserer%20n%C3%A4chsten%20%C3%B6ff
 entlichen%20Fraktionssitzung%20am%26nbsp%3B%3Cstrong%3EMontag%2C%2022.%20
 April%2C%20um%2019%20Uhr%2C%3C%2Fstrong%3E%26nbsp%3Bwieder%20im%26nbsp%3B
 %3Cem%3E%3Cstrong%3ERaum%20Reutberg%2C%20Kolberbr%C3%A4u%20Bad%20T%C3%B6l
 z%3C%2Fstrong%3E%3C%2Fem%3E%2C%3C%2Fp%3E%0A%0A%0A%0A%3Cp%3EMarktstra%C3%9
 Fe.%3C%2Fp%3E%0A%0A%0A%0A%3Cp%3EWir%20freuen%20uns%20auf%20euer%20zahlrei
 ches%20Kommen.%20Sicherlich%20gibt%20es%20wieder%20interessante%20Informa
 tionen%20und%20Diskussionen.%3C%2Fp%3E%0A%3C%2Fblockquote%3E%0A%0A%0A%0A%
 3Cfigure%20class%3D%22wp-block-image%20size-full%20is-resized%22%3E%3Cimg
 %20src%3D%22https%3A%2F%2Fgruene-toelz-wor.de%2Fwp-content%2Fuploads%2Fsi
 tes%2F38%2F2024%2F04%2Fsharepic-1.png%22%20alt%3D%22%22%20class%3D%22wp-i
 mage-3779%22%20style%3D%22width%3A400px%22%20%2F%3E%3C%2Ffigure%3E%0A":Li
 ebe Freundinnen und Freunde der Grünen\,\n\nwir treffen uns zu unserer n
 ächsten öffentlichen Fraktionssitzung am Montag\, 22. April\, um 19 Uh
 r\, wieder im Raum Reutberg\, Kolberbräu Bad Tölz\,\n\nMarktstraße.\
 n\nWir freuen uns auf euer zahlreiches Kommen. Sicherlich gibt es wieder 
 interessante Informationen und Diskussionen.
CLASS:PUBLIC
DTSTART;TZID=Europe/Berlin:20240422T190000
DTEND;TZID=Europe/Berlin:20240422T210000
DTSTAMP:20260420T063536
END:VEVENT
END:VCALENDAR