BEGIN:VCALENDAR
VERSION:2.0
PRODID:gruene-toelz-wor.de
METHOD:PUBLISH
BEGIN:VTIMEZONE
TZID:Europe/Berlin
X-LIC-LOCATION:Europe/Berlin
BEGIN:DAYLIGHT
TZOFFSETFROM:+0100
TZOFFSETTO:+0200
TZNAME:CEST
DTSTART:19700329T020000
RRULE:FREQ=YEARLY;INTERVAL=1;BYDAY=-1SU;BYMONTH=3
END:DAYLIGHT
BEGIN:STANDARD
TZOFFSETFROM:+0200
TZOFFSETTO:+0100
TZNAME:CET
DTSTART:19701025T030000
RRULE:FREQ=YEARLY;INTERVAL=1;BYDAY=-1SU;BYMONTH=10
END:STANDARD
END:VTIMEZONE
BEGIN:VEVENT
UID:3fb8f45d0b3743687ee237694a59de01@gruene-toelz-wor.de
URL;VALUE=URI:https://gruene-toelz-wor.de/termine/pandemie-und-impfpflich
 t-podiumsdiskussion-online/
LOCATION:online
SUMMARY:Pandemie und Impfpflicht  –  Podiumsdiskussion online
DESCRIPTION;ALTREP="data:text/html,%0A%3Cp%3EKaum%20ein%20Thema%20wird%20
 derzeit%20so%20kontrovers%20diskutiert%20wie%20die%20Corona%20-%20Impfpfl
 icht.%20Um%20dieses%20Thema%20in%20einem%20wissenschaftlichen%2C%20politi
 schen%20und%20juristischen%20Diskurs%20zu%20er%C3%B6rtern%2C%20haben%20wi
 r%20%C3%84rzte%2F%C3%84rztinnen%20und%20Juristen%20eingeladen%2C%20dieses
 %20Thema%20mit%20uns%20%C3%B6ffentlich%20zu%20diskutieren.%3C%2Fp%3E%0A%0
 A%0A%0A%3Cp%3E%3Cstrong%3EReferent%2Ainnen%20sind%3A%3C%2Fstrong%3E%3C%2F
 p%3E%0A%0A%0A%0A%3Cp%3E%3Cstrong%3EToni%20Schuberl%3C%2Fstrong%3E%2C%20Re
 chtsanwalt%20und%20rechtspolitischer%20Sprecher%20der%20gr%C3%BCnen%20Lan
 dtagsfraktion%3C%2Fp%3E%0A%0A%0A%0A%3Cp%3E%3Cstrong%3EJan%20Matthias%20He
 sse%3C%2Fstrong%3E%2C%20Rechtsanwalt%20und%20Fachanwalt%20f%C3%BCr%20Medi
 zinrecht%3C%2Fp%3E%0A%0A%0A%0A%3Cp%3E%3Cstrong%3EDr.%20Alexandra%20Maurer
 %3C%2Fstrong%3E%2C%20Haus%C3%A4rztin%20in%20Bad%20T%C3%B6lz%3C%2Fp%3E%0A%
 0A%0A%0A%3Cp%3E%3Cstrong%3EDr.%20Jost%20Deerberg%3C%2Fstrong%3E%2C%20Kind
 erarzt%20in%20Hamburg%2C%20Vorstand%20des%20%C3%84rztevereins%20f%C3%BCr%
 20eine%20individuelle%20Impfentscheidung%3C%2Fp%3E%0A%0A%0A%0A%3Cp%3E%3C%
 2Fp%3E%0A%0A%0A%0A%3Cp%3E%3Cstrong%3EModeration%3A%3C%2Fstrong%3E%20Thoma
 s%20Maurer%2C%20Hausarzt%20in%20Bad%20T%C3%B6lz%2C%20Gr%C3%BCnen%20OV%20B
 ad%20T%C3%B6lz%3C%2Fp%3E%0A%0A%0A%0A%3Cp%3E%3Cstrong%3ETechnische%20Unter
 st%C3%BCtzung%20durch%3C%2Fstrong%3E%3A%20Matthias%20Thumfart%2C%20OV%20S
 achsenkam%2C%20Reichersbeuern%2C%20Greiling.%3C%2Fp%3E%0A%0A%0A%0A%3Cp%3E
 Bei%20der%20Veranstaltung%20k%C3%B6nnen%20alle%20teilnehmen.%20Eure%20Fra
 gen%20und%20Meinungen%20werden%20w%C3%A4hrend%20der%20Veranstaltung%20an%
 20die%20ReferentInnen%20weitergeleitet%20und%20diskutiert.%20Ein%20h%C3%B
 6flicher%20und%20respektvoller%20Umgang%20miteinander%20bei%20dieser%20Ve
 ranstaltung%20ist%20selbstverst%C3%A4ndlich.%3C%2Fp%3E%0A%0A%0A%0A%3Cp%3E
 Eine%20Anmeldung%20ist%20notwendig%20unter%20folgendem%20Link%20%3Ca%20re
 l%3D%22noreferrer%20noopener%22%20href%3D%22https%3A%2F%2Fderef-web.de%2F
 mail%2Fclient%2Fl2HWfHXUpgM%2Fdereferrer%2F%3FredirectUrl%3Dhttps%253A%25
 2F%252Fbit.ly%252Fgruene-toelz-covid%22%20target%3D%22_blank%22%3Ehttps%3
 A%2F%2Fbit.ly%2Fgruene-toelz-covid%3C%2Fa%3E%3C%2Fp%3E%0A%0A%0A%0A%3Cp%3E
 %3C%2Fp%3E%0A%0A%0A%0A%3Cdiv%20class%3D%22wp-block-file%22%3E%3Ca%20id%3D
 %22wp-block-file--media-4a621f0f-270d-455d-88fd-cfdc63d1a6bd%22%20href%3D
 %22https%3A%2F%2Fgruene-toelz-wor.de%2Fwp-content%2Fuploads%2Fsites%2F38%
 2F2022%2F02%2FFlyer_Webinar_COVID19_GRUeNE_Toelz-2022223242.pdf%22%3EFlye
 r_Webinar_COVID19_Gruene_Toelz-%3C%2Fa%3E%3Ca%20href%3D%22https%3A%2F%2Fg
 ruene-toelz-wor.de%2Fwp-content%2Fuploads%2Fsites%2F38%2F2022%2F02%2FFlye
 r_Webinar_COVID19_GRUeNE_Toelz-2022223242.pdf%22%20class%3D%22wp-block-fi
 le__button%22%20download%20aria-describedby%3D%22wp-block-file--media-4a6
 21f0f-270d-455d-88fd-cfdc63d1a6bd%22%3EHerunterladen%3C%2Fa%3E%3C%2Fdiv%3
 E%0A":Kaum ein Thema wird derzeit so kontrovers diskutiert wie die Corona
  - Impfpflicht. Um dieses Thema in einem wissenschaftlichen\, politischen
  und juristischen Diskurs zu erörtern\, haben wir Ärzte/Ärztinnen und 
 Juristen eingeladen\, dieses Thema mit uns öffentlich zu diskutieren.\n\
 nReferent*innen sind:\n\nToni Schuberl\, Rechtsanwalt und rechtspolitisch
 er Sprecher der grünen Landtagsfraktion\n\nJan Matthias Hesse\, Rechtsan
 walt und Fachanwalt für Medizinrecht\n\nDr. Alexandra Maurer\, Hausärzt
 in in Bad Tölz\n\nDr. Jost Deerberg\, Kinderarzt in Hamburg\, Vorstand d
 es Ärztevereins für eine individuelle Impfentscheidung\n\nModeration: T
 homas Maurer\, Hausarzt in Bad Tölz\, Grünen OV Bad Tölz\n\nTechnische
  Unterstützung durch: Matthias Thumfart\, OV Sachsenkam\, Reichersbeuern
 \, Greiling.\n\nBei der Veranstaltung können alle teilnehmen. Eure Frage
 n und Meinungen werden während der Veranstaltung an die ReferentInnen we
 itergeleitet und diskutiert. Ein höflicher und respektvoller Umgang mite
 inander bei dieser Veranstaltung ist selbstverständlich.\n\nEine Anmeldu
 ng ist notwendig unter folgendem Link https://bit.ly/gruene-toelz-covid\n
 \nFlyer_Webinar_COVID19_Gruene_Toelz-Herunterladen
CLASS:PUBLIC
DTSTART;TZID=Europe/Berlin:20220225T193000
DTEND;TZID=Europe/Berlin:20220225T203000
DTSTAMP:20260425T104256
END:VEVENT
END:VCALENDAR