BEGIN:VCALENDAR
VERSION:2.0
PRODID:gruene-toelz-wor.de
METHOD:PUBLISH
BEGIN:VTIMEZONE
TZID:Europe/Berlin
X-LIC-LOCATION:Europe/Berlin
BEGIN:DAYLIGHT
TZOFFSETFROM:+0100
TZOFFSETTO:+0200
TZNAME:CEST
DTSTART:19700329T020000
RRULE:FREQ=YEARLY;INTERVAL=1;BYDAY=-1SU;BYMONTH=3
END:DAYLIGHT
BEGIN:STANDARD
TZOFFSETFROM:+0200
TZOFFSETTO:+0100
TZNAME:CET
DTSTART:19701025T030000
RRULE:FREQ=YEARLY;INTERVAL=1;BYDAY=-1SU;BYMONTH=10
END:STANDARD
END:VTIMEZONE
BEGIN:VEVENT
UID:ae025a8d438b33c2c176a57baa728bad@gruene-toelz-wor.de
URL;VALUE=URI:https://gruene-toelz-wor.de/termine/spaziergang-und-picknic
 k-mit-karl-baer/
LOCATION:Am Bahnhof, Lenggries
SUMMARY:Spaziergang und Picknick mit Karl Bär
DESCRIPTION;ALTREP="data:text/html,%0A%3Cp%3EAm%2014.%20September%202021%
 20laden%20wir%20Euch%20herzlich%20zu%20einem%20Ortsspaziergang%20in%20Len
 ggries%20mit%20unserem%20Direktkandidaten%20Karl%20B%C3%A4r%20ein.%20Zum%
 20gem%C3%BCtlichen%20Ausklang%20wird%20es%20noch%20ein%20Picknick%20am%20
 Ufer%20der%20Isar%20geben.%20Dort%20wird%20Karl%20etwas%20%C3%BCber%20die
 %20Produktion%20guter%20und%20%C3%B6kologischer%20Lebensmittel%20in%20der
 %20Region%20erz%C3%A4hlen.%20Los%20geht%20es%20um%2016%20Uhr%20am%20Bahnh
 of.%3C%2Fp%3E%0A%0A%0A%0A%3Cp%3EEine%20Anmeldung%20ist%20nicht%20n%C3%B6t
 ig%2C%20bitte%20beachtet%20die%20g%C3%A4ngigen%20Abstands-%20und%20Hygien
 eregeln.%3C%2Fp%3E%0A%0A%0A%0A%3Cp%3EF%C3%BCr%20weitere%20Informationen%2
 0k%C3%B6nnt%20Ihr%20Euch%20gerne%20an%20Marius%20wenden%20%28%3Ca%20href%
 3D%22mailto%3Amarius.schlosser%40gruene-toelz-wor.de%22%3Emarius.schlosse
 r%40gruene-toelz-wor.de%3C%2Fa%3E%29.%3C%2Fp%3E%0A":Am 14. September 2021
  laden wir Euch herzlich zu einem Ortsspaziergang in Lenggries mit unsere
 m Direktkandidaten Karl Bär ein. Zum gemütlichen Ausklang wird es noch 
 ein Picknick am Ufer der Isar geben. Dort wird Karl etwas über die Produ
 ktion guter und ökologischer Lebensmittel in der Region erzählen. Los g
 eht es um 16 Uhr am Bahnhof.\n\nEine Anmeldung ist nicht nötig\, bitte b
 eachtet die gängigen Abstands- und Hygieneregeln.\n\nFür weitere Inform
 ationen könnt Ihr Euch gerne an Marius wenden (marius.schlosser@gruene-t
 oelz-wor.de).
CLASS:PUBLIC
DTSTART;TZID=Europe/Berlin:20210914T160000
DTEND;TZID=Europe/Berlin:20210914T180000
DTSTAMP:20260422T101826
END:VEVENT
END:VCALENDAR